BEGIN:VCALENDAR
PRODID:UV COLOR Érettségi After
VERSION:2.0
CALSCALE:GREGORIAN
BEGIN:VEVENT
UID:8dd2734dd8b768281d248b77a24f23e5
DTSTAMP:20260423T152948Z
SUMMARY:UV COLOR Érettségi After
DTSTART;TZID=Europe/Budapest:20260515T220000
DTEND;TZID=Europe/Budapest:20260516T050000
LOCATION:HALL Debrecen
END:VEVENT
END:VCALENDAR
