BEGIN:VCALENDAR
PRODID:UV COLOR Graduation After Party
VERSION:2.0
CALSCALE:GREGORIAN
BEGIN:VEVENT
UID:2cf8e9d67086003ec602d3b86d006ad7
DTSTAMP:20260423T163147Z
SUMMARY:UV COLOR Graduation After Party
DTSTART;TZID=Europe/Budapest:20260515T220000
DTEND;TZID=Europe/Budapest:20260516T050000
LOCATION:HALL Debrecen
END:VEVENT
END:VCALENDAR
